BEGIN:VCALENDAR
VERSION:2.0
PRODID:-//wp-events-plugin.com//7.2.3.1//EN
TZID:America/New_York
X-WR-TIMEZONE:America/New_York
BEGIN:VEVENT
UID:1729@uucastine.org
DTSTART;TZID=America/New_York:20260127T153000
DTEND;TZID=America/New_York:20260127T163000
DTSTAMP:20260216T142442Z
URL:https://uucastine.org/events/uucc-reads-7-2026-01-06-2026-01-13-2026-0
 1-20-2026-01-27/
SUMMARY:UUCC Reads
DESCRIPTION:Join us for lively discussions about books and life via Zoom. C
 urrent reading and zoom link are available each week in our e-newsletter. 
 Sign up HERE.\n\n&nbsp\;
END:VEVENT
BEGIN:VTIMEZONE
TZID:America/New_York
X-LIC-LOCATION:America/New_York
BEGIN:STANDARD
DTSTART:20251102T010000
TZOFFSETFROM:-0400
TZOFFSETTO:-0500
TZNAME:EST
END:STANDARD
END:VTIMEZONE
END:VCALENDAR