BEGIN:VCALENDAR
VERSION:2.0
PRODID:-//wp-events-plugin.com//7.2.3.1//EN
TZID:America/New_York
X-WR-TIMEZONE:America/New_York
BEGIN:VEVENT
UID:1746@uucastine.org
DTSTART;TZID=America/New_York:20260526T153000
DTEND;TZID=America/New_York:20260526T163000
DTSTAMP:20260216T142442Z
URL:https://uucastine.org/events/uucc-reads-7-2026-01-06-2026-01-13-2026-0
 1-20-2026-01-27-2026-02-03-2026-02-10-2026-02-17-2026-02-24-2026-03-03-202
 6-03-10-2026-03-17-2026-03-24-2026-03-31-2026-04-07-2026-04-14-2026-04-19-
 2026-05-26/
SUMMARY:UUCC Reads
DESCRIPTION:Join us for lively discussions about books and life via Zoom. C
 urrent reading and zoom link are available each week in our e-newsletter. 
 Sign up HERE.\n\n&nbsp\;
END:VEVENT
BEGIN:VTIMEZONE
TZID:America/New_York
X-LIC-LOCATION:America/New_York
BEGIN:DAYLIGHT
DTSTART:20260308T030000
TZOFFSETFROM:-0500
TZOFFSETTO:-0400
TZNAME:EDT
END:DAYLIGHT
END:VTIMEZONE
END:VCALENDAR