BEGIN:VCALENDAR
VERSION:2.0
PRODID:-//wp-events-plugin.com//7.2.3.1//EN
TZID:America/New_York
X-WR-TIMEZONE:America/New_York
BEGIN:VEVENT
UID:1504@uucastine.org
DTSTART;TZID=America/New_York:20231031T153000
DTEND;TZID=America/New_York:20231031T163000
DTSTAMP:20230105T194700Z
URL:https://uucastine.org/events/uucc-reads-6-2023-10-31/
SUMMARY:UUCC Reads
DESCRIPTION:Everyone is welcome to pop in for an hour-long book discussion 
 on Zoom\nPlease drop in for great discussions – often about the book\, 
 but sometimes just about our lives.
END:VEVENT
BEGIN:VTIMEZONE
TZID:America/New_York
X-LIC-LOCATION:America/New_York
BEGIN:DAYLIGHT
DTSTART:20230312T030000
TZOFFSETFROM:-0500
TZOFFSETTO:-0400
TZNAME:EDT
END:DAYLIGHT
END:VTIMEZONE
END:VCALENDAR