BEGIN:VCALENDAR
VERSION:2.0
PRODID:-//wp-events-plugin.com//7.2.3.1//EN
TZID:America/New_York
X-WR-TIMEZONE:America/New_York
BEGIN:VEVENT
UID:1792@uucastine.org
DTSTART;TZID=America/New_York:20260419T103000
DTEND;TZID=America/New_York:20260419T120000
DTSTAMP:20260216T142713Z
URL:https://uucastine.org/events/sunday-worship-2026-01-11-2026-01-18-2026
 -01-25-2026-02-01-2026-02-08-2026-02-15-2026-02-22-2026-03-01-2026-03-08-2
 026-03-15-2026-03-22-2026-03-29-2026-04-05-2026-04-12-2026-04-19/
SUMMARY:Sunday Worship
DESCRIPTION:Join us for Sunday Worship in person at the historic Meeting Ho
 use on the Common or via Zoom by clicking the link HERE.\n\n&nbsp\;
END:VEVENT
BEGIN:VTIMEZONE
TZID:America/New_York
X-LIC-LOCATION:America/New_York
BEGIN:DAYLIGHT
DTSTART:20260308T030000
TZOFFSETFROM:-0500
TZOFFSETTO:-0400
TZNAME:EDT
END:DAYLIGHT
END:VTIMEZONE
END:VCALENDAR