BEGIN:VCALENDAR
VERSION:2.0
PRODID:-//wp-events-plugin.com//7.2.3.1//EN
TZID:America/New_York
X-WR-TIMEZONE:America/New_York
BEGIN:VEVENT
UID:1644@uucastine.org
DTSTART;TZID=America/New_York:20250622T103000
DTEND;TZID=America/New_York:20250622T120000
DTSTAMP:20250612T184901Z
URL:https://uucastine.org/events/sunday-worship-2025-06-22/
SUMMARY:GA Sunday Worship
DESCRIPTION:Join us for coffee and conversation at 10:30 a.m. before viewin
 g the live-stream of the Sunday Worship from the UUA General Assembly taki
 ng place in Baltimore\, MD. We look forward to seeing you in-person at the
  historic Meeting House on the Common or enjoy the service via live-stream
  by clicking the link HERE.\n\n&nbsp\;
END:VEVENT
BEGIN:VTIMEZONE
TZID:America/New_York
X-LIC-LOCATION:America/New_York
BEGIN:DAYLIGHT
DTSTART:20250309T030000
TZOFFSETFROM:-0500
TZOFFSETTO:-0400
TZNAME:EDT
END:DAYLIGHT
END:VTIMEZONE
END:VCALENDAR