BEGIN:VCALENDAR
VERSION:2.0
PRODID:-//wp-events-plugin.com//7.2.3.1//EN
TZID:America/New_York
X-WR-TIMEZONE:America/New_York
BEGIN:VEVENT
UID:1349@uucastine.org
DTSTART;TZID=America/New_York:20231119T103000
DTEND;TZID=America/New_York:20231119T113000
DTSTAMP:20230105T194223Z
URL:https://uucastine.org/events/sunday-service-6-2023-11-19/
SUMMARY:Sunday Service
DESCRIPTION:Join us each Sunday morning at 10:30 a.m. in person. Masking is
  optional\, but recommended.\n\nYou may also join us through Zoom at this 
 link: https://us06web.zoom.us/j/81325690149?pwd=V2pMOXVmckNReklWQTZFaU9qSD
 lWZz09
END:VEVENT
BEGIN:VTIMEZONE
TZID:America/New_York
X-LIC-LOCATION:America/New_York
BEGIN:STANDARD
DTSTART:20231105T010000
TZOFFSETFROM:-0400
TZOFFSETTO:-0500
TZNAME:EST
END:STANDARD
END:VTIMEZONE
END:VCALENDAR