BEGIN:VCALENDAR
VERSION:2.0
PRODID:-//wp-events-plugin.com//7.2.3.1//EN
TZID:America/New_York
X-WR-TIMEZONE:America/New_York
BEGIN:VEVENT
UID:1332@uucastine.org
DTSTART;TZID=America/New_York:20230723T103000
DTEND;TZID=America/New_York:20230723T113000
DTSTAMP:20230105T194223Z
URL:https://uucastine.org/events/sunday-service-6-2023-07-23/
SUMMARY:Sunday Service
DESCRIPTION:Join us each Sunday morning at 10:30 a.m. in person. Masking is
  optional\, but recommended.\n\nYou may also join us through Zoom at this 
 link: https://us06web.zoom.us/j/81325690149?pwd=V2pMOXVmckNReklWQTZFaU9qSD
 lWZz09
END:VEVENT
BEGIN:VTIMEZONE
TZID:America/New_York
X-LIC-LOCATION:America/New_York
BEGIN:DAYLIGHT
DTSTART:20230312T030000
TZOFFSETFROM:-0500
TZOFFSETTO:-0400
TZNAME:EDT
END:DAYLIGHT
END:VTIMEZONE
END:VCALENDAR