BEGIN:VCALENDAR
VERSION:2.0
PRODID:-//wp-events-plugin.com//7.2.3.1//EN
TZID:America/New_York
X-WR-TIMEZONE:America/New_York
BEGIN:VEVENT
UID:1308@uucastine.org
DTSTART;TZID=America/New_York:20230205T103000
DTEND;TZID=America/New_York:20230205T113000
DTSTAMP:20230202T192952Z
URL:https://uucastine.org/events/sunday-service-6-2023-02-05/
SUMMARY:Collaborative Sunday Service
DESCRIPTION:MULTI-PLATFORM\, 3-CHURCH COLLABORATIVE WORSHIP SERVICE!\n(IN-P
 ERSON at the UU CHURCH OF ELLSWORTH &amp\; ACCESSIBLE ON ZOOM!)\n"LOVE: It
 ’s About so Much More than Affection!"           \nRevs. Marg
 aret Beckman\, Amy Fiorilli &amp\; Sara Hayman\, Worship Leaders    \n
 \n\nThis Sunday\, our UU Church of Ellsworth hosts the 2nd of three Collab
 orative Worship Services of the year with our sibling congregations of Bel
 fast and Castine. All are welcome to come to church in person in Ellsworth
  or to join in the worship circle on ZOOM.  Drawing from the work and wis
 dom of bell hooks\, we’ll reflect on what being truly loving entails. Ho
 w are we choosing to embody love and be loving in our lives and as members
  and friends of our UU congregations?\n\nClick here for this week's Zoom l
 ink.\n\nDon't miss Rev. Amy Fiorilli's video invitation below:\n\n\n\n\n\n
 [video width="1280" height="720" mp4="https://uucastine.org/wp-content/upl
 oads/2023/02/Worship-Invitation-2-5-23.mp4"][/video]\n\n\nPlease send your
  very brief video or your sentence in writing to Suzanne Aubrey at suzann
 eaubrey57@gmail.com.\nAs always it is good to be in this circle of creativ
 ity and inspiration with all of you.  Love\, Rev. Amy\n\n\n&nbsp\;
END:VEVENT
BEGIN:VTIMEZONE
TZID:America/New_York
X-LIC-LOCATION:America/New_York
BEGIN:STANDARD
DTSTART:20221106T010000
TZOFFSETFROM:-0400
TZOFFSETTO:-0500
TZNAME:EST
END:STANDARD
END:VTIMEZONE
END:VCALENDAR