BEGIN:VCALENDAR
VERSION:2.0
PRODID:-//wp-events-plugin.com//7.2.3.1//EN
TZID:America/New_York
X-WR-TIMEZONE:America/New_York
BEGIN:VEVENT
UID:1259@uucastine.org
DTSTART;TZID=America/New_York:20221127T103000
DTEND;TZID=America/New_York:20221127T113000
DTSTAMP:20220420T142558Z
URL:https://uucastine.org/events/sunday-service-5-2022-11-27/
SUMMARY:Sunday Service
DESCRIPTION:Join us In-person or on Zoom.
END:VEVENT
BEGIN:VTIMEZONE
TZID:America/New_York
X-LIC-LOCATION:America/New_York
BEGIN:STANDARD
DTSTART:20221106T010000
TZOFFSETFROM:-0400
TZOFFSETTO:-0500
TZNAME:EST
END:STANDARD
END:VTIMEZONE
END:VCALENDAR