BEGIN:VCALENDAR
VERSION:2.0
PRODID:-//wp-events-plugin.com//7.2.3.1//EN
TZID:America/New_York
X-WR-TIMEZONE:America/New_York
BEGIN:VEVENT
UID:1255@uucastine.org
DTSTART;TZID=America/New_York:20221030T103000
DTEND;TZID=America/New_York:20221030T113000
DTSTAMP:20220420T142558Z
URL:https://uucastine.org/events/sunday-service-5-2022-10-30/
SUMMARY:Sunday Service
DESCRIPTION:Join us In-person or on Zoom.
END:VEVENT
BEGIN:VTIMEZONE
TZID:America/New_York
X-LIC-LOCATION:America/New_York
BEGIN:DAYLIGHT
DTSTART:20220313T030000
TZOFFSETFROM:-0500
TZOFFSETTO:-0400
TZNAME:EDT
END:DAYLIGHT
END:VTIMEZONE
END:VCALENDAR