BEGIN:VCALENDAR
VERSION:2.0
PRODID:-//wp-events-plugin.com//7.2.3.1//EN
TZID:America/New_York
X-WR-TIMEZONE:America/New_York
BEGIN:VEVENT
UID:1725@uucastine.org
DTSTART;TZID=America/New_York:20250508T190000
DTEND;TZID=America/New_York:20250508T200000
DTSTAMP:20250505T145336Z
URL:https://uucastine.org/events/servetus-the-radical-reformed-musical/
SUMMARY:Servetus: The Radical Reformed Musical
DESCRIPTION:Michael Servetus (1511-1553) wrote his brilliant religious trea
 tise\, “On the Errors of the Trinity\,” at age 21. His beliefs would b
 e pretty tame today. He worshipped a loving God\, believed in human beings
 ’ inherent worth and dignity\, and followed Jesus. But his writings were
  so offensive to church fathers in his own time\, Reformed Church leader\,
  John Calvin\, had him burned at the stake. Rev. Dennis McCarty wrote Serv
 etus: The Radical Reformed Musical several years ago\, and is once more ta
 king it on the road as a one-person presentation of dramatic reading and o
 riginal songs. The dozen songs in Servetus range from blues to jazz to roc
 k ’n’ roll—even some unplugged heavy metal. Sounds like a performanc
 e not to be missed!
END:VEVENT
BEGIN:VTIMEZONE
TZID:America/New_York
X-LIC-LOCATION:America/New_York
BEGIN:DAYLIGHT
DTSTART:20250309T030000
TZOFFSETFROM:-0500
TZOFFSETTO:-0400
TZNAME:EDT
END:DAYLIGHT
END:VTIMEZONE
END:VCALENDAR