BEGIN:VCALENDAR
VERSION:2.0
PRODID:-//wp-events-plugin.com//7.2.3.1//EN
TZID:America/New_York
X-WR-TIMEZONE:America/New_York
BEGIN:VEVENT
UID:1724@uucastine.org
DTSTART;TZID=America/New_York:20250419T130000
DTEND;TZID=America/New_York:20250419T140000
DTSTAMP:20250417T202541Z
URL:https://uucastine.org/events/jean-devereux-celebration-of-life/
SUMMARY:Jean Devereux Celebration of Life
DESCRIPTION:A Celebration for the Life of Jean Devereux will be held in the
  sanctuary of the Meeting House on April 19th at 1 p.m. A reception will f
 ollow in the Parish House. Friends and relatives may also attend via zoom 
 by clicking HERE.
END:VEVENT
BEGIN:VTIMEZONE
TZID:America/New_York
X-LIC-LOCATION:America/New_York
BEGIN:DAYLIGHT
DTSTART:20250309T030000
TZOFFSETFROM:-0500
TZOFFSETTO:-0400
TZNAME:EDT
END:DAYLIGHT
END:VTIMEZONE
END:VCALENDAR