BEGIN:VCALENDAR
VERSION:2.0
PRODID:-//wp-events-plugin.com//7.2.3.1//EN
TZID:America/New_York
X-WR-TIMEZONE:America/New_York
BEGIN:VEVENT
UID:1299@uucastine.org
DTSTART;TZID=America/New_York:20221212T190000
DTEND;TZID=America/New_York:20221212T200000
DTSTAMP:20221129T160439Z
URL:https://uucastine.org/events/community-christmas-concert/
SUMMARY:Community Christmas Concert
DESCRIPTION:A Community Christmas Concert\, sponsored by the Castine Arts A
 ssociation\, will be held\, Monday\, December 12th\, at 7 p.m. at the Unit
 arian Universalist Congregation of Castine's Meeting House.
END:VEVENT
BEGIN:VTIMEZONE
TZID:America/New_York
X-LIC-LOCATION:America/New_York
BEGIN:STANDARD
DTSTART:20221106T010000
TZOFFSETFROM:-0400
TZOFFSETTO:-0500
TZNAME:EST
END:STANDARD
END:VTIMEZONE
END:VCALENDAR