BEGIN:VCALENDAR
VERSION:2.0
PRODID:-//wp-events-plugin.com//7.2.3.1//EN
TZID:America/New_York
X-WR-TIMEZONE:America/New_York
BEGIN:VEVENT
UID:1300@uucastine.org
DTSTART;TZID=America/New_York:20221224T150000
DTEND;TZID=America/New_York:20221224T170000
DTSTAMP:20221215T192454Z
URL:https://uucastine.org/events/christmas-eve-service/
SUMMARY:Christmas Eve Service
DESCRIPTION:Savor the spirit of the season on Christmas Eve.\n\nJoin us ear
 ly at 3 p.m. for cookies and conversation\, followed by our traditional Ch
 ristmas Eve service at 4 p.m.\n\nZoom is available at this link: https://u
 s02web.zoom.us/j/81271806152?pwd=by9Xakt4V2RkbTBYYytjeUZUNnB1dz09 \n\nThe
 re will be no Sunday Service on Christmas Day. From our family to yours\, 
 we wish you health\, happiness\, peace and goodwill.
END:VEVENT
BEGIN:VTIMEZONE
TZID:America/New_York
X-LIC-LOCATION:America/New_York
BEGIN:STANDARD
DTSTART:20221106T010000
TZOFFSETFROM:-0400
TZOFFSETTO:-0500
TZNAME:EST
END:STANDARD
END:VTIMEZONE
END:VCALENDAR