BEGIN:VCALENDAR
VERSION:2.0
PRODID:-//wp-events-plugin.com//7.2.3.1//EN
TZID:America/New_York
X-WR-TIMEZONE:America/New_York
BEGIN:VEVENT
UID:1619@uucastine.org
DTSTART;TZID=America/New_York:20240629T160000
DTEND;TZID=America/New_York:20240629T180000
DTSTAMP:20240627T194425Z
URL:https://uucastine.org/events/building-hope-film-premiere/
SUMMARY:Building Hope Film Premiere
DESCRIPTION:BUILDING HOPE brings to audiences around Maine and beyond that
  there is hope to ending the suffering of homelessness.  The stories are 
 complex and hard to hear and bear. This documentary shows that there is 
 hope. We can all make a difference.\n\nRSVP for in-person attendance to of
 fice@uucastine.org.\n\nZoom link: https://us06web.zoom.us/j/81629512443?p
 wd=LUJP8xoaoIWZvot0a903aLs7sdJvQu.1\nMeeting ID: 816 2951 2443\nPasscode: 
 331669
END:VEVENT
BEGIN:VTIMEZONE
TZID:America/New_York
X-LIC-LOCATION:America/New_York
BEGIN:DAYLIGHT
DTSTART:20240310T030000
TZOFFSETFROM:-0500
TZOFFSETTO:-0400
TZNAME:EDT
END:DAYLIGHT
END:VTIMEZONE
END:VCALENDAR