BEGIN:VCALENDAR
VERSION:2.0
PRODID:-//wp-events-plugin.com//7.2.3.1//EN
TZID:America/New_York
X-WR-TIMEZONE:America/New_York
BEGIN:VEVENT
UID:1301@uucastine.org
DTSTART;TZID=America/New_York:20221221T170000
DTEND;TZID=America/New_York:20221221T170000
DTSTAMP:20221215T192836Z
URL:https://uucastine.org/events/blue-christmas-service/
SUMMARY:Blue Christmas service
DESCRIPTION:
END:VEVENT
BEGIN:VTIMEZONE
TZID:America/New_York
X-LIC-LOCATION:America/New_York
BEGIN:STANDARD
DTSTART:20221106T010000
TZOFFSETFROM:-0400
TZOFFSETTO:-0500
TZNAME:EST
END:STANDARD
END:VTIMEZONE
END:VCALENDAR